BEGIN:VCALENDAR
VERSION:2.0
METHOD:PUBLISH
BEGIN:VEVENT
UID:6517
DTSTAMP:{ts '2026-04-23 17:17:52'}
DTSTART;VALUE=DATE:20180925
DTEND;VALUE=DATE:20180929
SUMMARY:Micronora 2018
LOCATION:Besançon | France 
DESCRIPTION:This very specialized trade fair brings together the entire microtechnology sector and proposes a very broad multi-technological offer ranging from R&D to subcontracting and production technologies.  - http://fr.workxplore.com/events/micronora-2018
CLASS:PUBLIC
END:VEVENT
END:VCALENDAR