BEGIN:VCALENDAR
VERSION:2.0
METHOD:PUBLISH
BEGIN:VEVENT
UID:6501
DTSTAMP:{ts '2026-04-24 17:19:56'}
DTSTART;VALUE=DATE:20180327
DTEND;VALUE=DATE:20180331
SUMMARY:INDUSTRIE 2018
LOCATION:Paris Nord - Villepinte | France 
DESCRIPTION:INDUSTRIE always strives to bring together a range of know-how, innovations, and solutions to increase productivity and competitiveness. Ranked as one of the Top 5 manufacturing exhibitions in EUROPE, INDUSTRIE is the largest event dedicated to the sector in France.  - http://www.verosoftware.fr/events/industrie-paris-2018
CLASS:PUBLIC
END:VEVENT
END:VCALENDAR