BEGIN:VCALENDAR
VERSION:2.0
METHOD:PUBLISH
BEGIN:VEVENT
UID:6499
DTSTAMP:{ts '2026-04-21 09:23:49'}
DTSTART;VALUE=DATE:20180206
DTEND;VALUE=DATE:20180210
SUMMARY:EUROBOIS 2018
LOCATION:Lyon | France 
DESCRIPTION:Leading event in France for wood industry, Eurobois is the foremost gathering of timber and wood sector professionals.  - http://fr.workxplore.com/events/eurobois-2018
CLASS:PUBLIC
END:VEVENT
END:VCALENDAR